BEGIN:VCALENDAR
PRODID:-//eluceo/ical//2.0/EN
VERSION:2.0
CALSCALE:GREGORIAN
BEGIN:VEVENT
UID:2f19000cb1b69e6c9194f6f40d4205c3
DTSTAMP:20260421T075140Z
SUMMARY:Yiddish Dancing  and Klezmer Playing on Simchat Torah at Sinai
DESCRIPTION:Champaign-Urbana Jewish Federation\nCommunity Calendar\nhttps:/
 /cujf.org/community-calendar/yiddish-dancing--and-klezmer-playing-on-simch
 at-torah-at-sinai-1660618519\n\nFrances Harris and teens from the communit
 y will play Klezmer music for Yiddish dancing as part of the Simchat Torah
  celebration at Sinai Temple
DTSTART;TZID=America/Chicago:20221017T191500
DTEND;TZID=America/Chicago:20221017T211500
END:VEVENT
END:VCALENDAR
