BEGIN:VCALENDAR
PRODID:-//eluceo/ical//2.0/EN
VERSION:2.0
CALSCALE:GREGORIAN
BEGIN:VEVENT
UID:1b068ee84d035ce5ceafce64bf647672
DTSTAMP:20260423T013116Z
SUMMARY:Worrier to Warrior. Lesson 2: Embracing Flaws
DESCRIPTION:Champaign-Urbana Jewish Federation\nCommunity Calendar\nhttps:/
 /cujf.org/community-calendar/worrier-to-warrior-lesson-2-embracing-flaws\n
 \nLesson 2\n\nEmbracing Flaws: Addressing Shame\, Frustration\, and Feelin
 gs of Inadequacy\n\n \n\nWrestling with feelings of overwhelm\, procrasti
 nation\, or general not-enough-ness? This session explores the seemingly s
 enseless feelings of inadequacy and charts a course to transform them from
  adversary to ally.\n\n 
DTSTART;TZID=America/Chicago:20191208T103000
DTEND;TZID=America/Chicago:20191208T103000
END:VEVENT
END:VCALENDAR
