BEGIN:VCALENDAR
PRODID:-//eluceo/ical//2.0/EN
VERSION:2.0
CALSCALE:GREGORIAN
BEGIN:VEVENT
UID:89961188e991fc4f937d8f32ac823a3f
DTSTAMP:20260422T181523Z
SUMMARY:PJ Library Winter Break Camp 2
DESCRIPTION:Champaign-Urbana Jewish Federation\nCommunity Calendar\nhttps:/
 /cujf.org/community-calendar/winter-break-camp-2\n\nWinter Break Camp\n\n
  \n\nMonday\, December 23rd\n\nTuesday\, December 24th\n\nThursday\, Dece
 mber 26th\n\nFriday\, December 27th\n\n \n\nTime: 9:00 AM - 4:00 PM.\n\nD
 rop-off between 8:30am-9:00am\n\nPick-up between 3:30pm-4:00pm\n\nCost Per
  Camper: $260\n\nLocation: Sinai Temple\, 3104 Windsor Rd\, Champaign IL\n
 \nAges: Kindergarten - 6th Grade\n\n \n\nWinter days away from school are
  better when spent with friends! We are excited to offer 4 days of Winter 
 Camp filled with PJ Library books\, ar...
DTSTART;TZID=America/Chicago:20241226T000000
DTEND;TZID=America/Chicago:20241227T235959
END:VEVENT
END:VCALENDAR
