BEGIN:VCALENDAR
PRODID:-//eluceo/ical//2.0/EN
VERSION:2.0
CALSCALE:GREGORIAN
BEGIN:VEVENT
UID:8a3bc248c05bcf1e8d0a382ed90febe6
DTSTAMP:20260422T073228Z
SUMMARY:Welcome the New Year Service
DESCRIPTION:Champaign-Urbana Jewish Federation\nCommunity Calendar\nhttps:/
 /cujf.org/community-calendar/welcome-the-new-year-service\n\nJoin Chabad t
 o celebrate Rosh Hashanah. Please RSVP to let Chabad know which services a
 nd meals you will be attending. See the full schedule for the high holiday
 s on the Chabad website. 
DTSTART;TZID=America/Chicago:20180909T184500
DTEND;TZID=America/Chicago:20180909T194500
END:VEVENT
END:VCALENDAR
