BEGIN:VCALENDAR
PRODID:-//eluceo/ical//2.0/EN
VERSION:2.0
CALSCALE:GREGORIAN
BEGIN:VEVENT
UID:8c0537dcb8b0c3671eed73aec318ec6b
DTSTAMP:20260422T044839Z
SUMMARY:Webinar: Hebrew Circle Time
DESCRIPTION:Champaign-Urbana Jewish Federation\nCommunity Calendar\nhttps:/
 /cujf.org/community-calendar/webinar-hebrew-circle-time\n\nHebrew Circle T
 ime\nRegister here\nJoin PJ Library and Tkiya for a once-a-month free and 
 engaging Tuesday morning Hebrew Circle Time Zoom class for babies\, toddle
 rs\, preschoolers\, and their grownups at 11am eastern standard time.\nWe
  look forward to seeing you on February 11\, March 18\, April 8\, and May
  13. A link to join each Zoom event will be sent the day before each occur
 rence.\nCan't join us live? Not a problem! A recording will be sent after 
 each session to all registrants!
DTSTART;TZID=America/Chicago:20250211T100000
DTEND;TZID=America/Chicago:20250211T110000
END:VEVENT
END:VCALENDAR
