BEGIN:VCALENDAR
PRODID:-//eluceo/ical//2.0/EN
VERSION:2.0
CALSCALE:GREGORIAN
BEGIN:VEVENT
UID:a4cc1a1cf32635fcf123e60227d56c59
DTSTAMP:20260423T210425Z
SUMMARY:Webinar: End-of-Life Care for Older Adults with a History of Trauma
DESCRIPTION:Champaign-Urbana Jewish Federation\nCommunity Calendar\nhttps:/
 /cujf.org/community-calendar/webinar-end-of-life-care-for-older-adults-wit
 h-a\n\nWebinar: End-of-Life Care for Older Adults with a \n\nHistory of Tr
 auma and their Family Caregivers\n\nWednesday\, November 16\, 2022\n\n1:00
 pm - 2:15pm\n\nZoom\n\n \n\nFrom the Jewish Federation of North America:\
 n\nThis webinar will focus on the topic of end-of-life care and how to inc
 orporate Person-Centered\, Trauma-Informed (PCTI) principles into end-of-l
 ife care. PCTI care is a holistic approach to service provision developed 
 by the JFNA Center on Holocaust Survivor Care and Institute o...
DTSTART;TZID=America/Chicago:20221116T130000
DTEND;TZID=America/Chicago:20221116T140000
END:VEVENT
END:VCALENDAR
