BEGIN:VCALENDAR
PRODID:-//eluceo/ical//2.0/EN
VERSION:2.0
CALSCALE:GREGORIAN
BEGIN:VEVENT
UID:770a69845e99fc19bb2e180f8501d1cf
DTSTAMP:20260426T001940Z
SUMMARY:Violins of Hope
DESCRIPTION:Champaign-Urbana Jewish Federation\nCommunity Calendar\nhttps:/
 /cujf.org/community-calendar/violins-of-hope-1666840135\n\nPJ library musi
 c and dance workshop with Deborah Strauss and Jeff Warschauer
DTSTART;TZID=America/Chicago:20230510T160000
DTEND;TZID=America/Chicago:20230510T180000
END:VEVENT
END:VCALENDAR
