BEGIN:VCALENDAR
PRODID:-//eluceo/ical//2.0/EN
VERSION:2.0
CALSCALE:GREGORIAN
BEGIN:VEVENT
UID:16467167ec35c77bc41e2cd1fcfecea1
DTSTAMP:20260425T191701Z
SUMMARY:Violins of hope
DESCRIPTION:Champaign-Urbana Jewish Federation\nCommunity Calendar\nhttps:/
 /cujf.org/community-calendar/violins-of-hope-1666839766\n\nMeet and greet 
 with Violins of Hope owner Avshi.  Performance by Becca Kasdan.
DTSTART;TZID=America/Chicago:20230423T173000
DTEND;TZID=America/Chicago:20230423T193000
END:VEVENT
END:VCALENDAR
