BEGIN:VCALENDAR
PRODID:-//eluceo/ical//2.0/EN
VERSION:2.0
CALSCALE:GREGORIAN
BEGIN:VEVENT
UID:516d30ced80e681b3b049e54326b68fa
DTSTAMP:20260422T181553Z
SUMMARY:VIMS lunch
DESCRIPTION:Champaign-Urbana Jewish Federation\nCommunity Calendar\nhttps:/
 /cujf.org/community-calendar/vims-lunch\n\nJoin VIMS for their monthly gat
 hering. The locationrotates occasionally. RSVP required. Ask CUJF for thr 
 contact information. 
DTSTART;TZID=America/Chicago:20181101T114500
DTEND;TZID=America/Chicago:20181101T134500
END:VEVENT
END:VCALENDAR
