BEGIN:VCALENDAR
PRODID:-//eluceo/ical//2.0/EN
VERSION:2.0
CALSCALE:GREGORIAN
BEGIN:VEVENT
UID:aee14f01d821a2ec4f877a4254891a79
DTSTAMP:20260423T013126Z
SUMMARY:Urbana High School Orchestra at CTR Exhibit
DESCRIPTION:Champaign-Urbana Jewish Federation\nCommunity Calendar\nhttps:/
 /cujf.org/community-calendar/urbana-high-school-orchestra-at-ctr-exhibit\n
 \nStudents of Urbana\n\nHigh School Orchestra\n\nSaturday\, October 25th a
 t 2:00 PM CST\n\n\n\nView the international traveling Holocaust exhibit\, 
 Courage to Remember\, while listening to music from the Urbana High School
  Orchestra\, led by Tamra Gingold.\n\nFor more information\, visit cujf.o
 rg/ctr
DTSTART;TZID=America/Chicago:20251025T140000
DTEND;TZID=America/Chicago:20251025T150000
END:VEVENT
END:VCALENDAR
