BEGIN:VCALENDAR
PRODID:-//eluceo/ical//2.0/EN
VERSION:2.0
CALSCALE:GREGORIAN
BEGIN:VEVENT
UID:9ffd28f6f74c709d433e0808cd681898
DTSTAMP:20260421T190219Z
SUMMARY:Tu Bishvat and MLK Youth Day of Action
DESCRIPTION:Champaign-Urbana Jewish Federation\nCommunity Calendar\nhttps:/
 /cujf.org/community-calendar/tu-bishvat-and-mlk-youth-day-of-action\n\nTu 
 Bishvat and MLK Youth Day of Action. Some area schools have the day off - 
 kids in Kindergarten-7th grade are invited to Sinai Temple for a day of ac
 tivities related to Tu Bishvat and MLK. Activities will include a Tu Bishv
 at Seder\, paper making\, social action projects\, learning about Martin L
 uther King Jr.\, etc.\n\nCost is $30 per kid if enrolled in Sinai Temple R
 eligious School\, $40 per kid not enrolled. Drop off at 9:00 at Sinai Temp
 le\, pick up at 4:30. Depending on need\, we may be able ...
DTSTART;TZID=America/Chicago:20190121T093000
DTEND;TZID=America/Chicago:20190121T163000
END:VEVENT
END:VCALENDAR
