BEGIN:VCALENDAR
PRODID:-//eluceo/ical//2.0/EN
VERSION:2.0
CALSCALE:GREGORIAN
BEGIN:VEVENT
UID:003975e2429fb2ee1c3174f4f028904a
DTSTAMP:20260423T095226Z
SUMMARY:Traditional Egalitarian Minyan
DESCRIPTION:Champaign-Urbana Jewish Federation\nCommunity Calendar\nhttps:/
 /cujf.org/community-calendar/traditional-egalitarian-minyan-320188\n\nTrad
 itional Egalitarian Services
DTSTART;TZID=America/Chicago:20190914T100000
DTEND;TZID=America/Chicago:20190914T100000
END:VEVENT
END:VCALENDAR
