BEGIN:VCALENDAR
PRODID:-//eluceo/ical//2.0/EN
VERSION:2.0
CALSCALE:GREGORIAN
BEGIN:VEVENT
UID:5d66c53a39747c275b3084cda2d3356a
DTSTAMP:20260422T053331Z
SUMMARY:Tot Shabbat with PJ Library & Tkiya
DESCRIPTION:Champaign-Urbana Jewish Federation\nCommunity Calendar\nhttps:/
 /cujf.org/community-calendar/tot-shabbat-with-pj-library-tkiya\n\nTot Shab
 bat with PJ Library & Tkiya\n\nRegister here\n\nFriday\, August 16th | 10a
 m CT\nJoin PJ Library and Tkiya for a free and engaging Friday morning Tot
  Shabbat Zoom class for babies\, toddlers\, preschoolers\, and their grown
 ups at 11 am eastern standard time. Can't join us live? Not a problem! A r
 ecording will be sent after each session to all registrants!
DTSTART;TZID=America/Chicago:20240816T100000
DTEND;TZID=America/Chicago:20240816T113000
END:VEVENT
END:VCALENDAR
