BEGIN:VCALENDAR
PRODID:-//eluceo/ical//2.0/EN
VERSION:2.0
CALSCALE:GREGORIAN
BEGIN:VEVENT
UID:9253dd16fb77f09acd22ea8c948824bd
DTSTAMP:20260423T112303Z
SUMMARY:Through Their Eyes: Awards Ceremony
DESCRIPTION:Champaign-Urbana Jewish Federation\nCommunity Calendar\nhttps:/
 /cujf.org/community-calendar/through-their-eyes-awards-ceremony-25\n\nJoin
  the CUJF Holocaust Education Center as they award the winners of the Thr
 ough Their Eyes: A Holocaust Art and Writing Contest 2025 at the Cohen Ce
 nter on April 6th from 2-3pm CST. Please email azer@cujf.org to rsvp.
DTSTART;TZID=America/Chicago:20250406T140000
DTEND;TZID=America/Chicago:20250406T150000
END:VEVENT
END:VCALENDAR
