BEGIN:VCALENDAR
PRODID:-//eluceo/ical//2.0/EN
VERSION:2.0
CALSCALE:GREGORIAN
BEGIN:VEVENT
UID:1b1222211bae9393fab4b5235e1f6df3
DTSTAMP:20260424T213347Z
SUMMARY:The Strange Career of Hate  with Prof. Kevin Mumford
DESCRIPTION:Champaign-Urbana Jewish Federation\nCommunity Calendar\nhttps:/
 /cujf.org/community-calendar/the-strange-career-of-hate--with-prof-kevin-m
 umford-1671031623\n\nJoin us for a timely reexamination of the politics of
  hate legislation—its origins\, legislative history\, local\nmobilizatio
 ns\, and disparate impacts. Distinguished scholar\, Kevin Mumford\, focuse
 s on the major\ncontributions of the Anti-Defamation League to protect the
  vulnerable\, particularly in the 1950s and\nthe 1980s. Studying the stran
 ge origins of hate crime\, Mumford argues\, reveals the intersecting force
 s\n\nof racism\, antisemitism\, homophobia\, and violent whiteness.\nRegis
 ter in adva...
DTSTART;TZID=America/Chicago:20230207T190000
DTEND;TZID=America/Chicago:20230207T210000
END:VEVENT
END:VCALENDAR
