BEGIN:VCALENDAR
PRODID:-//eluceo/ical//2.0/EN
VERSION:2.0
CALSCALE:GREGORIAN
BEGIN:VEVENT
UID:d37a249461a9eb23b8bc15d9f8659be1
DTSTAMP:20260422T181922Z
SUMMARY:The Passover Escape!
DESCRIPTION:Champaign-Urbana Jewish Federation\nCommunity Calendar\nhttps:/
 /cujf.org/community-calendar/the-passover-escape\n\nStart with an escape r
 oom as you attempt to solve your way out of Egypt!\nAs you leave\, prepare
  to bake your own matzoh\, just as Jewish people did over 3\,000 years ago
 !\nRSVP is REQUIRED to adequately prepare for this event
DTSTART;TZID=America/Chicago:20190331T130000
DTEND;TZID=America/Chicago:20190331T150000
END:VEVENT
END:VCALENDAR
