BEGIN:VCALENDAR
PRODID:-//eluceo/ical//2.0/EN
VERSION:2.0
CALSCALE:GREGORIAN
BEGIN:VEVENT
UID:dd009a23f4c20512c9ff88aff5e38a87
DTSTAMP:20260423T061227Z
SUMMARY:The Jewish Languages Project Museum
DESCRIPTION:Champaign-Urbana Jewish Federation\nCommunity Calendar\nhttps:/
 /cujf.org/community-calendar/the-jewish-languages-project-museum\n\nIllini
  Hillel Presents\n\nThe Jewish Languages Project Museum\n\nOpen December 1
 st - 7th\, 2025\n\n503 E John St\, Champaign IL\n\n \n\nBeyond Hebrew\, Y
 iddish\, and Aramaic - come learn about endangered\, emerging\, and thrivi
 ng Jewish languages...
DTSTART;TZID=America/Chicago:20251201T183000
DTEND;TZID=America/Chicago:20251207T170000
END:VEVENT
END:VCALENDAR
