BEGIN:VCALENDAR
PRODID:-//eluceo/ical//2.0/EN
VERSION:2.0
CALSCALE:GREGORIAN
BEGIN:VEVENT
UID:9f97c064a273ddc25a725a515b4ed28c
DTSTAMP:20260422T081404Z
SUMMARY:The Jewish Healing Center Annual Online Conference
DESCRIPTION:Champaign-Urbana Jewish Federation\nCommunity Calendar\nhttps:/
 /cujf.org/community-calendar/the-jewish-healing-center-annual-online-confe
 rence\n\nThe Jewish Healing Center Annual Online Conference\n\nMonday\, Ja
 nuary 13th\, 2025\n\n7:00 - 8:00 PM CST\n\nRegister Here\n\n \n\nChaplain
 s\, social workers\, volunteers\, and all who perform the mitzvah of biku
 r cholim (visting and aiding those who are ill) are encouraged to attend 
 a series of online programs on the theme of “Infinite Kindness: Healing 
 in the Face of Trauma\, Crisis\, and Antisemitism.” Eric Fingerhut\, Reu
 ben Rotman\, and Rabbi Lynn Liberman will appear at the initial session...
DTSTART;TZID=America/Chicago:20250113T190000
DTEND;TZID=America/Chicago:20250113T200000
END:VEVENT
END:VCALENDAR
