BEGIN:VCALENDAR
PRODID:-//eluceo/ical//2.0/EN
VERSION:2.0
CALSCALE:GREGORIAN
BEGIN:VEVENT
UID:e506dd822b6974801c7ac817ea2dad6f
DTSTAMP:20260422T063124Z
SUMMARY:The Israeli Palestinian-Conflict | A View From The Region
DESCRIPTION:Champaign-Urbana Jewish Federation\nCommunity Calendar\nhttps:/
 /cujf.org/community-calendar/the-israeli-palestinian-conflict-a-view-from-
 the-region\n\nThe Israeli Palestinian-Conflict | A View From The Region\nN
 ovember 14th\, 2024\n7 PM\n503 E John St\, Champaign\n\n \n\nThe conventi
 onal Western narrative that the Israeli-Palestinian conflict drives Middle
  East geopolitics is inaccurate and counterproductive. Instead\, understan
 ding how the evolving dynamics of the Middle East shape the conflict can l
 ead to more constructive\, unifying conversations and offe...
DTSTART;TZID=America/Chicago:20241114T190000
DTEND;TZID=America/Chicago:20241114T203000
END:VEVENT
END:VCALENDAR
