BEGIN:VCALENDAR
PRODID:-//eluceo/ical//2.0/EN
VERSION:2.0
CALSCALE:GREGORIAN
BEGIN:VEVENT
UID:a3519630e1ddcfdf48a5ccafe192047a
DTSTAMP:20260421T154143Z
SUMMARY:The Auschwitz Experience in the Art of Prisoners - day 3
DESCRIPTION:Champaign-Urbana Jewish Federation\nCommunity Calendar\nhttps:/
 /cujf.org/community-calendar/the-auschwitz-experience-in-the-art-of-prison
 ers3\n\nThis exhibit presents the fate of the victims of the largest Germa
 n concentration and extermination camp\, AuschwitzBirkenau\, through the a
 rtwork of twelve survivors.\n\nThe 24-panel exhibit consists of 60 pieces 
 that depict the experiences the survivors had during the Holocaust. This\n
 exhibit is on loan from the Auschwitz-Birkenau State Museum\, Oświęcim\,
  Poland.\n\n \n\nThe exhibit can be viewed on the following dates: \n\nS
 aturday\, September 24 - 10:00-4:00\n\nSaturday\, October 1 - 10:00...
DTSTART;TZID=America/Chicago:20221010T100000
DTEND;TZID=America/Chicago:20221010T160000
END:VEVENT
END:VCALENDAR
