BEGIN:VCALENDAR
PRODID:-//eluceo/ical//2.0/EN
VERSION:2.0
CALSCALE:GREGORIAN
BEGIN:VEVENT
UID:6b2727ba91e5860a30a4b6007c8d5895
DTSTAMP:20260421T235725Z
SUMMARY:The Auschwitz Experience in the Art of Prisoners
DESCRIPTION:Champaign-Urbana Jewish Federation\nCommunity Calendar\nhttps:/
 /cujf.org/community-calendar/the-auschwitz-experience-in-the-art-of-prison
 ers-1703010634-454364\n\nThe Exhibit Content: The exhibition entitled “T
 he Auschwitz experience in the art of prisoners” presents the fate of th
 e victims of the largest German concentration and extermination camp KL Au
 schwitz\, presented through the works of those who survived. Terrible livi
 ng conditions\, worrisome starvation and continuous tiredness due to exhau
 sting\, long-lasting work were the inherent elements of camp existence\, a
 ccompanied by beating and constant humiliation. In their works\, the forme
 r prisone...
DTSTART;TZID=America/Chicago:20240119T090000
DTEND;TZID=America/Chicago:20240209T170000
END:VEVENT
END:VCALENDAR
