BEGIN:VCALENDAR
PRODID:-//eluceo/ical//2.0/EN
VERSION:2.0
CALSCALE:GREGORIAN
BEGIN:VEVENT
UID:b06a69056bc70c45857a5dadc241b208
DTSTAMP:20260422T100901Z
SUMMARY:The Auschwitz Experience in the Art of Prisoners
DESCRIPTION:Champaign-Urbana Jewish Federation\nCommunity Calendar\nhttps:/
 /cujf.org/community-calendar/the-auschwitz-experience-in-the-art-of-prison
 ers-1663360911\n\nThis exhibit presents the fate of the victims of the lar
 gest German concentration and extermination camp\, AuschwitzBirkenau\, thr
 ough the artwork of twelve survivors.\n\nThe 24-panel exhibit consists of 
 60 pieces that depict the experiences the survivors had during the Holocau
 st. This\nexhibit is on loan from the Auschwitz-Birkenau State Museum\, O
 święcim\, Poland.\n\n \n\nThe exhibit can be viewed on the following da
 tes: \n\nSaturday\, September 24 - 10:00-4:00\n\nSaturday\, October 1 - 1
 0:00...
DTSTART;TZID=America/Chicago:20220924T100000
DTEND;TZID=America/Chicago:20220924T160000
END:VEVENT
END:VCALENDAR
