BEGIN:VCALENDAR
PRODID:-//eluceo/ical//2.0/EN
VERSION:2.0
CALSCALE:GREGORIAN
BEGIN:VEVENT
UID:31b83eeabae111ff9a62a2c9a7ad4e9e
DTSTAMP:20260421T084223Z
SUMMARY:Teen Movie Night
DESCRIPTION:Champaign-Urbana Jewish Federation\nCommunity Calendar\nhttps:/
 /cujf.org/community-calendar/teen-movie-night-Aug-25-2018\n\nOur first tee
 n movie of the year is coming up soon: August 25\, 6-9pm at the Elazar hom
 e. \nWe will watch Joseph and The Amazing Technicolor Dream Coat. We will
  have pizza. Feel free to bring snacks or a dessert. \n\nRSVP to yael.ger
 tner@gmail.com or inbal.elazar@amdocs.com
DTSTART;TZID=America/Chicago:20180825T180000
DTEND;TZID=America/Chicago:20180825T210000
END:VEVENT
END:VCALENDAR
