BEGIN:VCALENDAR
PRODID:-//eluceo/ical//2.0/EN
VERSION:2.0
CALSCALE:GREGORIAN
BEGIN:VEVENT
UID:d509ae448589f08fcd367179b33365dd
DTSTAMP:20260422T231338Z
SUMMARY:Teen Movie Night
DESCRIPTION:Champaign-Urbana Jewish Federation\nCommunity Calendar\nhttps:/
 /cujf.org/community-calendar/teen-movie-night\n\nTeens are welcome to enjo
 y a movie at the Soloveychik home with other teens of our community.
DTSTART;TZID=America/Chicago:20171022T173000
DTEND;TZID=America/Chicago:20171022T203000
END:VEVENT
END:VCALENDAR
