BEGIN:VCALENDAR
PRODID:-//eluceo/ical//2.0/EN
VERSION:2.0
CALSCALE:GREGORIAN
BEGIN:VEVENT
UID:46cce4911b0dbfdf770ab54eaa6daadd
DTSTAMP:20260423T210414Z
SUMMARY:Teen Klezmer Slow Jam
DESCRIPTION:Champaign-Urbana Jewish Federation\nCommunity Calendar\nhttps:/
 /cujf.org/community-calendar/teen-klezmer-slow-jam-1658154607\n\nSpecial t
 een edition of the klezmer slow jam on Wednesday\, July 27th\, 7:00pm. All
  instruments welcome\, no experience necessary. Weather permitting\, we’
 ll be meeting outside.\n\nPlease contact Frances Harris (franceyfidl at g
 mail.com) for the address\, a link to the music\, and with any questions. 
 This style of music is typically played by ear\, but jam participants are 
 welcome to print the sheet music and bring it along. There will be at leas
 t one set at the jam. \n\nKlezmer music is the tra...
DTSTART;TZID=America/Chicago:20220727T190000
DTEND;TZID=America/Chicago:20220727T210000
END:VEVENT
END:VCALENDAR
