BEGIN:VCALENDAR
PRODID:-//eluceo/ical//2.0/EN
VERSION:2.0
CALSCALE:GREGORIAN
BEGIN:VEVENT
UID:2d6b78e6637e68a6900bc1fde05a89f3
DTSTAMP:20260426T035256Z
SUMMARY:Ta'am Yisrael Israel Trip Information Session for 7th and 8th grade
  parents
DESCRIPTION:Champaign-Urbana Jewish Federation\nCommunity Calendar\nhttps:/
 /cujf.org/community-calendar/taam-yisrael-israel-trip-information-session-
 for-7th-and-8th-grade-parents\n\nCALLING ALL 7th and 8th Graders and Paren
 ts!\n\nCUJF and Rabbi Jody are exploring the idea of joining an establishe
 d trip to Israel for 8th grade students. TA’AM YISRAEL (Taste of Israel)
  is a trip run through the Chicago Federation and they are excited about t
 he idea of extending our 8th grade students an opportunity to join the tri
 p. The director of the Chicago Federation and the director of TA’AM YISR
 AEL are making a special trip to Champaign on October 9. If you have a cur
 rent 7th o...
DTSTART;TZID=America/Chicago:20181009T163000
DTEND;TZID=America/Chicago:20181009T180000
END:VEVENT
END:VCALENDAR
