BEGIN:VCALENDAR
PRODID:-//eluceo/ical//2.0/EN
VERSION:2.0
CALSCALE:GREGORIAN
BEGIN:VEVENT
UID:169de7706aa07dbeb725011afd9a94d3
DTSTAMP:20260424T191641Z
SUMMARY:Surviving the Holocaust: Stories of Courage
DESCRIPTION:Champaign-Urbana Jewish Federation\nCommunity Calendar\nhttps:/
 /cujf.org/community-calendar/surviving-the-holocaust-stories-of-courage\n\
 nParkland College Class ID: 17819\n\nCost: $9\n\n \n\nExplore the insprir
 ing story of Dr. WIlliam Gingold\, who was born in Warsaw\, Poland only a 
 few days after the Nazi Germany invasion of Poland and bombardment of Wars
 aw at the start of WWII. Listen as he delves into his family's experience 
 of incarceration in the Warsaw Ghetto\, escape attempts\, and their eventu
 al transport to Siberia. Discover how they navigaed the hardships of Kazak
 hstan and a displaced persons camp in Germany\, culminating...
DTSTART;TZID=America/Chicago:20250422T130000
DTEND;TZID=America/Chicago:20250422T150000
END:VEVENT
END:VCALENDAR
