BEGIN:VCALENDAR
PRODID:-//eluceo/ical//2.0/EN
VERSION:2.0
CALSCALE:GREGORIAN
BEGIN:VEVENT
UID:3ed4ea08bdf94b01dd5ca9089e0a2b1b
DTSTAMP:20260423T080211Z
SUMMARY:CUJF's Super Sunday Fundraiser
DESCRIPTION:Champaign-Urbana Jewish Federation\nCommunity Calendar\nhttps:/
 /cujf.org/community-calendar/super-sunday\n\nIts the Super Sunday Fundrais
 er!! We will be reaching out to to help raise money with a goal of $240\,
 000\, so stay tuned for our call! 
DTSTART;TZID=America/Chicago:20240407T000000
DTEND;TZID=America/Chicago:20240407T235959
END:VEVENT
END:VCALENDAR
