BEGIN:VCALENDAR
PRODID:-//eluceo/ical//2.0/EN
VERSION:2.0
CALSCALE:GREGORIAN
BEGIN:VEVENT
UID:4edc57b6d4231964bf764224c72c7cd6
DTSTAMP:20260426T002014Z
SUMMARY:Sukkot at Zumwalt Acres
DESCRIPTION:Champaign-Urbana Jewish Federation\nCommunity Calendar\nhttps:/
 /cujf.org/community-calendar/sukkot-at-zumwalt-acres-1695149108\n\nCome ce
 lebrate the fall abundance at Zumwalt Acres in honor of the Jewish harvest
  festival Sukkot! We will be gathering in community for celebration\, song
 \, learning\, eating\, and prayer. Come for just Sunday\, or join us for t
 he whole weekend. Most programming will be facilitated on Sunday\, but you
  are welcome to join us for Shabbat as well. At this time\, our only optio
 n for overnight stay is camping\, and we are happy to talk through ways of
  making this as accessible as possible\, if you do...
DTSTART;TZID=America/Chicago:20231001T103000
DTEND;TZID=America/Chicago:20231001T170000
END:VEVENT
END:VCALENDAR
