BEGIN:VCALENDAR
PRODID:-//eluceo/ical//2.0/EN
VERSION:2.0
CALSCALE:GREGORIAN
BEGIN:VEVENT
UID:04b7387c8f9c56a97e639897370580c2
DTSTAMP:20260425T154308Z
SUMMARY:Sukkah Design Festival Opening Celebration
DESCRIPTION:Champaign-Urbana Jewish Federation\nCommunity Calendar\nhttps:/
 /cujf.org/community-calendar/sukkah-design-festival-opening-celebration\n\
 nJoin us for the Opening Celebration of the third annual Chicago Sukkah De
 sign Festival! Visitors will experience the five unique sukkahs for the fi
 rst time and learn more about the Jewish harvest holiday of Sukkot. Over t
 he course of the afternoon\, visitors will enjoy food\, art-making activit
 ies\, communal rituals\, participatory performances\, and more. Family fri
 endly!\n\n\n\n1:00–2:00pm: Artist Rachel Ellison of Bat Sarah Press will
  lead a make-your-own local lulav workshop\; learn about t...
DTSTART;TZID=America/Chicago:20241006T130000
DTEND;TZID=America/Chicago:20241006T170000
END:VEVENT
END:VCALENDAR
