BEGIN:VCALENDAR
PRODID:-//eluceo/ical//2.0/EN
VERSION:2.0
CALSCALE:GREGORIAN
BEGIN:VEVENT
UID:99f03a703220655fa06a28961192e2e4
DTSTAMP:20260421T230701Z
SUMMARY:Songs From Testimonies: Holocaust Remembrance Day
DESCRIPTION:Champaign-Urbana Jewish Federation\nCommunity Calendar\nhttps:/
 /cujf.org/community-calendar/songs-from-testimonies\n\nThe Songs From Tes
 timonies project is a musical research and performance based on poems and
  songs in the interviews with Holocaust survivors recorded at Yale’s Fo
 rtunoff Video Archive for Holocaust Testimonies. The Fortunoff Archive’s
  collection consists of more than 4\,300 video testimonies of Holocaust 
 survivors and witnesses. Consisting of more than 12\,000 hours of video 
 material\, the testimonies were recorded in more than a dozen different co
 untries and in more than 20 different...
DTSTART;TZID=America/Chicago:20250127T173000
DTEND;TZID=America/Chicago:20250127T193000
END:VEVENT
END:VCALENDAR
