BEGIN:VCALENDAR
PRODID:-//eluceo/ical//2.0/EN
VERSION:2.0
CALSCALE:GREGORIAN
BEGIN:VEVENT
UID:8ad96698ad2072934640cf2c02e2085e
DTSTAMP:20260419T131446Z
SUMMARY:Solidarity in the Jewish Perspective with Dr. Eli Rosenblatt
DESCRIPTION:Champaign-Urbana Jewish Federation\nCommunity Calendar\nhttps:/
 /cujf.org/community-calendar/solidarity-in-the-jewish-perspective-with-dr-
 eli-rosenblatt\n\n \n\n\n\n\n\n\n\n\n\n\n\n\n\n \n\n\n\n\n\n\n\n\n\nSpri
 ng 2026 First Tuesday Interfaith Dialogue Series\n\nThe campus Interfaith 
 Planning Committee is excited to announce the full line-up of First Tuesda
 y Interfaith Dialogue topics for this semester. All events will be held fr
 om 6-7pm at the University YMCA\, 1001 S. Wright St.\, Champaign. The Firs
 t Tuesday Interfaith Dialogue is designed ...
DTSTART;TZID=America/Chicago:20260303T180000
DTEND;TZID=America/Chicago:20260303T190000
END:VEVENT
END:VCALENDAR
