BEGIN:VCALENDAR
PRODID:-//eluceo/ical//2.0/EN
VERSION:2.0
CALSCALE:GREGORIAN
BEGIN:VEVENT
UID:c2dd6d269338a1293ca7ba9c891a649d
DTSTAMP:20260422T030114Z
SUMMARY:Sinai Temple Trivia Night
DESCRIPTION:Champaign-Urbana Jewish Federation\nCommunity Calendar\nhttps:/
 /cujf.org/community-calendar/sinai-temple-trivia-night\n\nCall your friend
 s and sign up!  We can't wait to see the pods filled with Sinai Temple me
 mbers and community members.  You can register as an individual\, small g
 roup or full table of 8.  \n\nIf you are interested in bringing a desser
 t for the dessert auction\, please email Rabbi Jody ASAP.\n\n \n\nLINK TO
  SIGN UP:  CLICK HERE
DTSTART;TZID=America/Chicago:20250405T190000
DTEND;TZID=America/Chicago:20250405T210000
END:VEVENT
END:VCALENDAR
