BEGIN:VCALENDAR
PRODID:-//eluceo/ical//2.0/EN
VERSION:2.0
CALSCALE:GREGORIAN
BEGIN:VEVENT
UID:34de1379fad7206ecc576c03b199e1a2
DTSTAMP:20260426T015607Z
SUMMARY:Sinai Temple Spa Afternoon
DESCRIPTION:Champaign-Urbana Jewish Federation\nCommunity Calendar\nhttps:/
 /cujf.org/community-calendar/sinai-temple-spa-afternoon\n\nJoin us for a S
 pa Afternoon\, A ‘Spring-into-Health’ fundraiser.\nTreat yourself to t
 he benefits of these three wellness practices: Yoga\, Tai Chi\, and Medita
 tion\nFor ages 10 + up\; $25 per person\; ‘Smoothies & Schmooze’ bar\;
  Babysitting services available\; Invite your friends\; A limited number o
 f chair massages\, first come\, first served\n\nRSVP via SignUp Genius: ht
 tps://tinyurl.com/y7o56ex9 or call the Temple office at 217-352-8140  \n
 QUESTIONS: Email Robin Goettel\, robinfans1@gmail....
DTSTART;TZID=America/Chicago:20190331T140000
DTEND;TZID=America/Chicago:20190331T160000
END:VEVENT
END:VCALENDAR
