BEGIN:VCALENDAR
PRODID:-//eluceo/ical//2.0/EN
VERSION:2.0
CALSCALE:GREGORIAN
BEGIN:VEVENT
UID:059c2aab1620a9ab75a929e146f828f1
DTSTAMP:20260422T025041Z
SUMMARY:Sinai Temple Solar Event
DESCRIPTION:Champaign-Urbana Jewish Federation\nCommunity Calendar\nhttps:/
 /cujf.org/community-calendar/sinai-temple-solar-event\n\nJoin Sinai Temple
  for their solar event\, with refreshments following. Visit the sinai temp
 le website for more information.
DTSTART;TZID=America/Chicago:20250330T120000
DTEND;TZID=America/Chicago:20250330T123000
END:VEVENT
END:VCALENDAR
