BEGIN:VCALENDAR
PRODID:-//eluceo/ical//2.0/EN
VERSION:2.0
CALSCALE:GREGORIAN
BEGIN:VEVENT
UID:cb7853f596691c180c42a0b835f9930c
DTSTAMP:20260421T154133Z
SUMMARY:Sinai Temple Religious School Community Ice Skating Event
DESCRIPTION:Champaign-Urbana Jewish Federation\nCommunity Calendar\nhttps:/
 /cujf.org/community-calendar/sinai-temple-religious-school-community-ice-s
 kating-event-1671557752\n\nSinai Temple Religious School families and frie
 nds from the community gather for an open skate session at the U of I ice 
 rink each year! Hope you will join us! We will have light snacks\, a reser
 ved party area and tons of fun skating. Please RSVP to Rabbi Jody Cook (ed
 ucator@sinaitemplecu.org). Cost for a wristband (admissions and skate rent
 al) and snacks is $8.00 per person (cash or check made out to Sinai Temple
 ).
DTSTART;TZID=America/Chicago:20230108T133000
DTEND;TZID=America/Chicago:20230108T160000
END:VEVENT
END:VCALENDAR
