BEGIN:VCALENDAR
PRODID:-//eluceo/ical//2.0/EN
VERSION:2.0
CALSCALE:GREGORIAN
BEGIN:VEVENT
UID:6a5452665a35bff0b34ce8fcd3e7b9c2
DTSTAMP:20260421T172634Z
SUMMARY:Sinai Temple Gift Shop Passover Showcase
DESCRIPTION:Champaign-Urbana Jewish Federation\nCommunity Calendar\nhttps:/
 /cujf.org/community-calendar/sinai-temple-gift-shop-passover-showcase-1743
 095350\n\nSinai Temple Gift Shop Passover Showcase South Lobby/Levin Loung
 e 09:00 AM-01:00 PM
DTSTART;TZID=America/Chicago:20250406T090000
DTEND;TZID=America/Chicago:20250406T130000
END:VEVENT
END:VCALENDAR
