BEGIN:VCALENDAR
PRODID:-//eluceo/ical//2.0/EN
VERSION:2.0
CALSCALE:GREGORIAN
BEGIN:VEVENT
UID:b901d70d9b79ed8b5fabee0c9fa31feb
DTSTAMP:20260421T235358Z
SUMMARY:Sinai Temple  Gift Shop Chanukah Showcase
DESCRIPTION:Champaign-Urbana Jewish Federation\nCommunity Calendar\nhttps:/
 /cujf.org/community-calendar/sinai-temple-gift-shop-chanukah-showcase\n\nG
 ift Shop Chanukah Showcase\n\n\n\n\n\n\n\n\n\n\nDecember 7 from 9 AM - 1 P
 M\n\nOne Day Only!\n\n\n\n\n\n\n\n\n\n\n\nGet ready for great deals on eve
 rything you and your family need to celebrate Chanukah!\n\nStock up on hos
 tess gifts\, candles\, and chocolate gelt… Add a beautiful new menorah t
 o your collection… Decorate your home with lights\, banners\, and more
 … Grab dreidels for your kids’ classmates… And don’t forget so...
DTSTART;TZID=America/Chicago:20251207T090000
DTEND;TZID=America/Chicago:20251207T130000
END:VEVENT
END:VCALENDAR
