BEGIN:VCALENDAR
PRODID:-//eluceo/ical//2.0/EN
VERSION:2.0
CALSCALE:GREGORIAN
BEGIN:VEVENT
UID:4adbd2f9688f688b34b48e653d87a8c7
DTSTAMP:20260422T013935Z
SUMMARY:Sinai Temple Annual Purim Carnival
DESCRIPTION:Champaign-Urbana Jewish Federation\nCommunity Calendar\nhttps:/
 /cujf.org/community-calendar/sinai-temple-annual-purim-carnival\n\nCostume
 s\, games\, face paint\, prizes\, bounce houses\, dinner and more! We hope
  you will celebrate Purim with us and Spring Break with fun and friends! P
 unch cards and meal packages for purchase at the door. Please bring cash o
 r check. If you have questions\, please contact Rabbi Jody (educator@sinai
 templecu.org). This event is open to the community so bring friends!
DTSTART;TZID=America/Chicago:20190324T160000
DTEND;TZID=America/Chicago:20190324T180000
END:VEVENT
END:VCALENDAR
