BEGIN:VCALENDAR
PRODID:-//eluceo/ical//2.0/EN
VERSION:2.0
CALSCALE:GREGORIAN
BEGIN:VEVENT
UID:021d2a0f707beb7480c416e618ce3e29
DTSTAMP:20260421T093035Z
SUMMARY:Sinai Egalitarian Traditional Service and Potluck
DESCRIPTION:Champaign-Urbana Jewish Federation\nCommunity Calendar\nhttps:/
 /cujf.org/community-calendar/sinai-egalitarian-traditional-service-and-pot
 luck\n\nShavuot at Sinai Temple\n\nTuesday\, June 11th through Thursday\, 
 June 13th\n\n \n\nOn Tuesday\, June 11\, as we usher in the holiday of S
 havuot\, Rabbi Alan will join with other rabbis and cantors throughout the
  world in offering a virtual Tikkun Leil Shavuot\, echoing the tradition t
 o study throughout the evening on Erev Shavuot to celebrate the giving of 
 the Torah.  Check out the entire catalog of offerings\, and register for 
 this free program\, by clicking here.\n\nRabbi Alan is scheduled to ...
DTSTART;TZID=America/Chicago:20240613T100000
DTEND;TZID=America/Chicago:20240613T130000
END:VEVENT
END:VCALENDAR
