BEGIN:VCALENDAR
PRODID:-//eluceo/ical//2.0/EN
VERSION:2.0
CALSCALE:GREGORIAN
BEGIN:VEVENT
UID:5ab05d22a1b533c316dc3bc090385c67
DTSTAMP:20260424T230007Z
SUMMARY:Sinai Annual Pancake Breakfast 2024
DESCRIPTION:Champaign-Urbana Jewish Federation\nCommunity Calendar\nhttps:/
 /cujf.org/community-calendar/sinai-annual-pancake-breakfast-2024\n\nJoin S
 inai Temple for their annual Pancake Breakfast will be on Sunday\, August 
 25 from 9:00-11:00.  This breakfast is open to the community and funds ra
 ised will support CUTY – Champaign-Urbana Temple Your\,  their youth g
 roup.  Please register for the Pancake Breakfast by August 23!  Pancake
  Breakfast - August 25\, 2024 - Form - Sinai Temple of Champaign (shulclou
 d.com)  No cost – but please RSVP by August 23.  You are encouraged to
  “tip” the volunteers who are helping to cook ...
DTSTART;TZID=America/Chicago:20240825T090000
DTEND;TZID=America/Chicago:20240825T110000
END:VEVENT
END:VCALENDAR
