BEGIN:VCALENDAR
PRODID:-//eluceo/ical//2.0/EN
VERSION:2.0
CALSCALE:GREGORIAN
BEGIN:VEVENT
UID:ef294ce11e958106b0d9b20a1546638c
DTSTAMP:20260419T194301Z
SUMMARY:Sichat Nefesh: A Caregiver Wellness Circle
DESCRIPTION:Champaign-Urbana Jewish Federation\nCommunity Calendar\nhttps:/
 /cujf.org/community-calendar/sichat-nefesh-a-caregiver-wellness-circle\n\n
 A monthly gathering for those caring for loved ones navigating aging\, neu
 rodiversity\, disability\, or illness. Open to parents\, caregivers\, and 
 adults of all abilities. \n\nYou don't have to do it alone! \n\nWe ask y
 ou please respect privacy and keep what is shared in the group confidentia
 l. While confidentiality cannot be guarenteed\, diacretion is expected. 
DTSTART;TZID=America/Chicago:20260517T170000
DTEND;TZID=America/Chicago:20260517T183000
END:VEVENT
END:VCALENDAR
