BEGIN:VCALENDAR
PRODID:-//eluceo/ical//2.0/EN
VERSION:2.0
CALSCALE:GREGORIAN
BEGIN:VEVENT
UID:2f9a3d1832e4b32787f9f9c79a608078
DTSTAMP:20260422T012533Z
SUMMARY:Shtrunes Klezmer Duo
DESCRIPTION:Champaign-Urbana Jewish Federation\nCommunity Calendar\nhttps:/
 /cujf.org/community-calendar/shtrunes-klezmer-duo-080424\n\nShtrunes (“s
 trings”) Klezmer Duo\n\nSunday\, August 4th\n\n4:00 - 6:00 PM\n\nRose Bo
 wl Tavern\, 106 N Race St.\n\n \n\nShtrunes (“strings”) Klezmer Duo w
 ill be performing once again outside under the tent at the Rose Bowl Taver
 n\, 106 N. Race St. in Urbana on Sunday\, August 4\, 4:00pm - 6:00pm. Fran
 ces Harris (violin) and Cody Jensen (tsimbl) of Papashoy Klezmer Band will
  make you party like it’s 1875!\n\nBring your kids\, bring your dogs\, b
 ring your takeout\, bring your $$ for the tip b...
DTSTART;TZID=America/Chicago:20240804T160000
DTEND;TZID=America/Chicago:20240804T180000
END:VEVENT
END:VCALENDAR
