BEGIN:VCALENDAR
PRODID:-//eluceo/ical//2.0/EN
VERSION:2.0
CALSCALE:GREGORIAN
BEGIN:VEVENT
UID:dfc02c03f56a64227c4639c5ddfd7bae
DTSTAMP:20260424T075817Z
SUMMARY:Shofar Sounding
DESCRIPTION:Champaign-Urbana Jewish Federation\nCommunity Calendar\nhttps:/
 /cujf.org/community-calendar/shofar-sounding-sept-10\n\n \n\nJoin Chabad 
 to celebrate Rosh Hashanah. Please RSVP to let Chabad know which service
 s and meals you will be attending. See the full schedule for the high hol
 idays on the Chabad website. 
DTSTART;TZID=America/Chicago:20180910T113000
DTEND;TZID=America/Chicago:20180910T120000
END:VEVENT
END:VCALENDAR
