BEGIN:VCALENDAR
PRODID:-//eluceo/ical//2.0/EN
VERSION:2.0
CALSCALE:GREGORIAN
BEGIN:VEVENT
UID:ea6d1ec29ed1b4cdd453f6c0d3cd2304
DTSTAMP:20260421T060520Z
SUMMARY:Shavuot with Sinai
DESCRIPTION:Champaign-Urbana Jewish Federation\nCommunity Calendar\nhttps:/
 /cujf.org/community-calendar/shavuot-with-sinai\n\nShavuot at Sinai Temple
 \n\nTuesday\, June 11th through Thursday\, June 13th\n\n \n\nOn Tuesday\
 , June 11\, as we usher in the holiday of Shavuot\, Rabbi Alan will join w
 ith other rabbis and cantors throughout the world in offering a virtual Ti
 kkun Leil Shavuot\, echoing the tradition to study throughout the evening 
 on Erev Shavuot to celebrate the giving of the Torah.  Check out the enti
 re catalog of offerings\, and register for this free program\, by clickin
 g here.\n\nRabbi Alan is scheduled to ...
DTSTART;TZID=America/Chicago:20240611T200000
DTEND;TZID=America/Chicago:20240611T220000
END:VEVENT
END:VCALENDAR
