BEGIN:VCALENDAR
PRODID:-//eluceo/ical//2.0/EN
VERSION:2.0
CALSCALE:GREGORIAN
BEGIN:VEVENT
UID:b56148853760624573960f62303efa87
DTSTAMP:20260425T152859Z
SUMMARY:Shabbat with Mois Navon
DESCRIPTION:Champaign-Urbana Jewish Federation\nCommunity Calendar\nhttps:/
 /cujf.org/community-calendar/shabbat-with-mois-navon-285139\n\nJoin Chabad
  for a Shabbat with Mois Navon\, Founding Engineer of Mobileye. Mobileye i
 s the leading supplier of software that enables Advanced Driver Assist Sys
 tems (ADAS)\, with more than 25 automaker partners including some of the w
 orld’s largest. Mobileye is on the cutting-edge of autonomous vehicle te
 chnology. In 2017\, Intel Corporation acquired Mobileye. \n\nAugust 31\, 
 Friday\nInnovation\, Autonomous Vehicles\, and Purpose\n6:30 pm Kabalat Sh
 abbat\n7:30 pm Dinner\n\nSeptember 1\, Saturday\n...
DTSTART;TZID=America/Chicago:20180901T133000
DTEND;TZID=America/Chicago:20180901T153000
END:VEVENT
END:VCALENDAR
