BEGIN:VCALENDAR
PRODID:-//eluceo/ical//2.0/EN
VERSION:2.0
CALSCALE:GREGORIAN
BEGIN:VEVENT
UID:a6c130028f692a81a81cbd1b78fecf62
DTSTAMP:20260423T000500Z
SUMMARY:Shabbat Rocks!
DESCRIPTION:Champaign-Urbana Jewish Federation\nCommunity Calendar\nhttps:/
 /cujf.org/community-calendar/shabbat-rocks-1675443505\n\nShabbat Rocks! Is
  a family friendly Kabbalat Shabbat experience. We start with dinner at 5:
 30 (cost is $5 per person) and continue with worship services around 6:15 
 and an oneg Shabbat immediately after. Shabbat Rocks! is filled with music
 \, storytelling\, prayers\, dancing and fun. Families are welcome to come 
 to part or all of the 3rd Friday night Shabbat experience. RSVP for dinner
  is requested by Wednesday before\, pay by cash or check at the event. We 
 also welcome volunteers to host the oneg...
DTSTART;TZID=America/Chicago:20230217T173000
DTEND;TZID=America/Chicago:20230217T193000
END:VEVENT
END:VCALENDAR
