BEGIN:VCALENDAR
PRODID:-//eluceo/ical//2.0/EN
VERSION:2.0
CALSCALE:GREGORIAN
BEGIN:VEVENT
UID:fe5d9d8eef0b0136a32be0f9013fc663
DTSTAMP:20260424T073922Z
SUMMARY:Shabbat Ends 8:28
DESCRIPTION:Champaign-Urbana Jewish Federation\nCommunity Calendar\nhttps:/
 /cujf.org/community-calendar/shabbat-ends-828-April-28-2018\n\nShabbat end
 s 8:28 pm
DTSTART;TZID=America/Chicago:20180428T000000
DTEND;TZID=America/Chicago:20180428T202800
END:VEVENT
END:VCALENDAR
