BEGIN:VCALENDAR
PRODID:-//eluceo/ical//2.0/EN
VERSION:2.0
CALSCALE:GREGORIAN
BEGIN:VEVENT
UID:cb7fe9b038f7a7f725f6b28ff9985432
DTSTAMP:20260423T182519Z
SUMMARY:Shabbat Ends 8:20
DESCRIPTION:Champaign-Urbana Jewish Federation\nCommunity Calendar\nhttps:/
 /cujf.org/community-calendar/shabbat-ends-820-April-21-2018\n\nShabbat End
 s 8:20 pm
DTSTART;TZID=America/Chicago:20180421T000000
DTEND;TZID=America/Chicago:20180421T202000
END:VEVENT
END:VCALENDAR
