BEGIN:VCALENDAR
PRODID:-//eluceo/ical//2.0/EN
VERSION:2.0
CALSCALE:GREGORIAN
BEGIN:VEVENT
UID:3a9f28e65eb23244ad4132a0e9548be0
DTSTAMP:20260424T001338Z
SUMMARY:Shabbat Ends 8:12
DESCRIPTION:Champaign-Urbana Jewish Federation\nCommunity Calendar\nhttps:/
 /cujf.org/community-calendar/shabbat-ends-812-April-14-2018\n\nShabbat end
 s at 8:12 pm
DTSTART;TZID=America/Chicago:20180414T000000
DTEND;TZID=America/Chicago:20180414T201200
END:VEVENT
END:VCALENDAR
